Workbook

Sheet Instructions
A1: ScanScore class result analysis
A2: Free local workbook. No macros, external connections or student-data uploads.
A3: 1. Open Results and fill the blue input columns: student reference, name, score, maximum score.
A4: 2. Keep grey formula columns intact. Enter a positive maximum score; negative earned scores are allowed.
A5: 3. Set the classroom pass threshold in Summary!B3. The default 40% is editable.
A6: 4. Rows need a student reference and valid numeric scores to enter the summary.
A7: 5. Competition ranks use percentage: equal values get equal ranks (1, 2, 2, 4).
A8: 6. Invalid and blank rows are excluded. Review the Status column before using results.
A9: 7. Use a common test for comparisons; percentages alone do not equate different papers.
A10: 8. Open in Excel or compatible software and allow formulas to recalculate.
A11: The Example tab uses fictional data. Your Results tab is blank.
A12: Resource: https://scanscore.app/resources/class-result-analysis-template
... A14: Blank resources may be shared for classroom/coaching use. Attribution optional.

Sheet Summary
A1: Class summary | B1: Value
A2: Uses valid rows in Results only
A3: Pass threshold (editable) | B3: 0.4
A4: Students with valid scores | B4: =COUNT(Results!E2:E201)
A5: Average percentage | B5: =IF(B4=0,"",AVERAGE(Results!E2:E201))
A6: Median percentage | B6: =IF(B4=0,"",MEDIAN(Results!E2:E201))
A7: Highest percentage | B7: =IF(B4=0,"",MAX(Results!E2:E201))
A8: Lowest percentage | B8: =IF(B4=0,"",MIN(Results!E2:E201))
A9: Students passing | B9: =COUNTIF(Results!G2:G201,"Pass")
A10: Pass rate | B10: =IF(B4=0,"",B9/B4)
A11: Rows needing correction | B11: =COUNTIF(Results!H2:H201,"Check score / maximum")

Sheet Results
A1: student_ref | B1: student_name | C1: score | D1: max_score | E1: percentage | F1: rank | G1: pass_status | H1: validation_status
E2: =IF(H2="OK",C2/D2,"") | F2: =IF(ISNUMBER(E2),RANK(E2,$E$2:$E$201,0),"") | G2: =IF(ISNUMBER(E2),IF(E2>=Summary!$B$3,"Pass","Below threshold"),"") | H2: =IF(A2="","",IF(AND(ISNUMBER(C2),ISNUMBER(D2),D2>0,C2<=D2),"OK","Check score / maximum"))
E3: =IF(H3="OK",C3/D3,"") | F3: =IF(ISNUMBER(E3),RANK(E3,$E$2:$E$201,0),"") | G3: =IF(ISNUMBER(E3),IF(E3>=Summary!$B$3,"Pass","Below threshold"),"") | H3: =IF(A3="","",IF(AND(ISNUMBER(C3),ISNUMBER(D3),D3>0,C3<=D3),"OK","Check score / maximum"))
E4: =IF(H4="OK",C4/D4,"") | F4: =IF(ISNUMBER(E4),RANK(E4,$E$2:$E$201,0),"") | G4: =IF(ISNUMBER(E4),IF(E4>=Summary!$B$3,"Pass","Below threshold"),"") | H4: =IF(A4="","",IF(AND(ISNUMBER(C4),ISNUMBER(D4),D4>0,C4<=D4),"OK","Check score / maximum"))
E5: =IF(H5="OK",C5/D5,"") | F5: =IF(ISNUMBER(E5),RANK(E5,$E$2:$E$201,0),"") | G5: =IF(ISNUMBER(E5),IF(E5>=Summary!$B$3,"Pass","Below threshold"),"") | H5: =IF(A5="","",IF(AND(ISNUMBER(C5),ISNUMBER(D5),D5>0,C5<=D5),"OK","Check score / maximum"))
E6: =IF(H6="OK",C6/D6,"") | F6: =IF(ISNUMBER(E6),RANK(E6,$E$2:$E$201,0),"") | G6: =IF(ISNUMBER(E6),IF(E6>=Summary!$B$3,"Pass","Below threshold"),"") | H6: =IF(A6="","",IF(AND(ISNUMBER(C6),ISNUMBER(D6),D6>0,C6<=D6),"OK","Check score / maximum"))
E7: =IF(H7="OK",C7/D7,"") | F7: =IF(ISNUMBER(E7),RANK(E7,$E$2:$E$201,0),"") | G7: =IF(ISNUMBER(E7),IF(E7>=Summary!$B$3,"Pass","Below threshold"),"") | H7: =IF(A7="","",IF(AND(ISNUMBER(C7),ISNUMBER(D7),D7>0,C7<=D7),"OK","Check score / maximum"))
E8: =IF(H8="OK",C8/D8,"") | F8: =IF(ISNUMBER(E8),RANK(E8,$E$2:$E$201,0),"") | G8: =IF(ISNUMBER(E8),IF(E8>=Summary!$B$3,"Pass","Below threshold"),"") | H8: =IF(A8="","",IF(AND(ISNUMBER(C8),ISNUMBER(D8),D8>0,C8<=D8),"OK","Check score / maximum"))
E9: =IF(H9="OK",C9/D9,"") | F9: =IF(ISNUMBER(E9),RANK(E9,$E$2:$E$201,0),"") | G9: =IF(ISNUMBER(E9),IF(E9>=Summary!$B$3,"Pass","Below threshold"),"") | H9: =IF(A9="","",IF(AND(ISNUMBER(C9),ISNUMBER(D9),D9>0,C9<=D9),"OK","Check score / maximum"))
E10: =IF(H10="OK",C10/D10,"") | F10: =IF(ISNUMBER(E10),RANK(E10,$E$2:$E$201,0),"") | G10: =IF(ISNUMBER(E10),IF(E10>=Summary!$B$3,"Pass","Below threshold"),"") | H10: =IF(A10="","",IF(AND(ISNUMBER(C10),ISNUMBER(D10),D10>0,C10<=D10),"OK","Check score / maximum"))
E11: =IF(H11="OK",C11/D11,"") | F11: =IF(ISNUMBER(E11),RANK(E11,$E$2:$E$201,0),"") | G11: =IF(ISNUMBER(E11),IF(E11>=Summary!$B$3,"Pass","Below threshold"),"") | H11: =IF(A11="","",IF(AND(ISNUMBER(C11),ISNUMBER(D11),D11>0,C11<=D11),"OK","Check score / maximum"))
E12: =IF(H12="OK",C12/D12,"") | F12: =IF(ISNUMBER(E12),RANK(E12,$E$2:$E$201,0),"") | G12: =IF(ISNUMBER(E12),IF(E12>=Summary!$B$3,"Pass","Below threshold"),"") | H12: =IF(A12="","",IF(AND(ISNUMBER(C12),ISNUMBER(D12),D12>0,C12<=D12),"OK","Check score / maximum"))
E13: =IF(H13="OK",C13/D13,"") | F13: =IF(ISNUMBER(E13),RANK(E13,$E$2:$E$201,0),"") | G13: =IF(ISNUMBER(E13),IF(E13>=Summary!$B$3,"Pass","Below threshold"),"") | H13: =IF(A13="","",IF(AND(ISNUMBER(C13),ISNUMBER(D13),D13>0,C13<=D13),"OK","Check score / maximum"))
... E201: =IF(H201="OK",C201/D201,"") | F201: =IF(ISNUMBER(E201),RANK(E201,$E$2:$E$201,0),"") | G201: =IF(ISNUMBER(E201),IF(E201>=Summary!$B$3,"Pass","Below threshold"),"") | H201: =IF(A201="","",IF(AND(ISNUMBER(C201),ISNUMBER(D201),D201>0,C201<=D201),"OK","Check score / maximum"))

Sheet Example
A1: student_ref | B1: student_name | C1: score | D1: max_score | E1: percentage | F1: rank | G1: pass_status | H1: validation_status
A2: EX-001 | B2: Example Student 1 | C2: 80 | D2: 100 | E2: =IF(H2="OK",C2/D2,"") | F2: =IF(ISNUMBER(E2),RANK(E2,$E$2:$E$201,0),"") | G2: =IF(ISNUMBER(E2),IF(E2>=Summary!$B$3,"Pass","Below threshold"),"") | H2: =IF(A2="","",IF(AND(ISNUMBER(C2),ISNUMBER(D2),D2>0,C2<=D2),"OK","Check score / maximum"))
A3: EX-002 | B3: Example Student 2 | C3: 70 | D3: 100 | E3: =IF(H3="OK",C3/D3,"") | F3: =IF(ISNUMBER(E3),RANK(E3,$E$2:$E$201,0),"") | G3: =IF(ISNUMBER(E3),IF(E3>=Summary!$B$3,"Pass","Below threshold"),"") | H3: =IF(A3="","",IF(AND(ISNUMBER(C3),ISNUMBER(D3),D3>0,C3<=D3),"OK","Check score / maximum"))
A4: EX-003 | B4: Example Student 3 | C4: 70 | D4: 100 | E4: =IF(H4="OK",C4/D4,"") | F4: =IF(ISNUMBER(E4),RANK(E4,$E$2:$E$201,0),"") | G4: =IF(ISNUMBER(E4),IF(E4>=Summary!$B$3,"Pass","Below threshold"),"") | H4: =IF(A4="","",IF(AND(ISNUMBER(C4),ISNUMBER(D4),D4>0,C4<=D4),"OK","Check score / maximum"))
A5: EX-004 | B5: Example Student 4 | C5: 40 | D5: 100 | E5: =IF(H5="OK",C5/D5,"") | F5: =IF(ISNUMBER(E5),RANK(E5,$E$2:$E$201,0),"") | G5: =IF(ISNUMBER(E5),IF(E5>=Summary!$B$3,"Pass","Below threshold"),"") | H5: =IF(A5="","",IF(AND(ISNUMBER(C5),ISNUMBER(D5),D5>0,C5<=D5),"OK","Check score / maximum"))
A6: EX-005 | B6: Example Student 5 | C6: 20 | D6: 100 | E6: =IF(H6="OK",C6/D6,"") | F6: =IF(ISNUMBER(E6),RANK(E6,$E$2:$E$201,0),"") | G6: =IF(ISNUMBER(E6),IF(E6>=Summary!$B$3,"Pass","Below threshold"),"") | H6: =IF(A6="","",IF(AND(ISNUMBER(C6),ISNUMBER(D6),D6>0,C6<=D6),"OK","Check score / maximum"))
E7: =IF(H7="OK",C7/D7,"") | F7: =IF(ISNUMBER(E7),RANK(E7,$E$2:$E$201,0),"") | G7: =IF(ISNUMBER(E7),IF(E7>=Summary!$B$3,"Pass","Below threshold"),"") | H7: =IF(A7="","",IF(AND(ISNUMBER(C7),ISNUMBER(D7),D7>0,C7<=D7),"OK","Check score / maximum"))
E8: =IF(H8="OK",C8/D8,"") | F8: =IF(ISNUMBER(E8),RANK(E8,$E$2:$E$201,0),"") | G8: =IF(ISNUMBER(E8),IF(E8>=Summary!$B$3,"Pass","Below threshold"),"") | H8: =IF(A8="","",IF(AND(ISNUMBER(C8),ISNUMBER(D8),D8>0,C8<=D8),"OK","Check score / maximum"))
E9: =IF(H9="OK",C9/D9,"") | F9: =IF(ISNUMBER(E9),RANK(E9,$E$2:$E$201,0),"") | G9: =IF(ISNUMBER(E9),IF(E9>=Summary!$B$3,"Pass","Below threshold"),"") | H9: =IF(A9="","",IF(AND(ISNUMBER(C9),ISNUMBER(D9),D9>0,C9<=D9),"OK","Check score / maximum"))
E10: =IF(H10="OK",C10/D10,"") | F10: =IF(ISNUMBER(E10),RANK(E10,$E$2:$E$201,0),"") | G10: =IF(ISNUMBER(E10),IF(E10>=Summary!$B$3,"Pass","Below threshold"),"") | H10: =IF(A10="","",IF(AND(ISNUMBER(C10),ISNUMBER(D10),D10>0,C10<=D10),"OK","Check score / maximum"))
E11: =IF(H11="OK",C11/D11,"") | F11: =IF(ISNUMBER(E11),RANK(E11,$E$2:$E$201,0),"") | G11: =IF(ISNUMBER(E11),IF(E11>=Summary!$B$3,"Pass","Below threshold"),"") | H11: =IF(A11="","",IF(AND(ISNUMBER(C11),ISNUMBER(D11),D11>0,C11<=D11),"OK","Check score / maximum"))
E12: =IF(H12="OK",C12/D12,"") | F12: =IF(ISNUMBER(E12),RANK(E12,$E$2:$E$201,0),"") | G12: =IF(ISNUMBER(E12),IF(E12>=Summary!$B$3,"Pass","Below threshold"),"") | H12: =IF(A12="","",IF(AND(ISNUMBER(C12),ISNUMBER(D12),D12>0,C12<=D12),"OK","Check score / maximum"))
E13: =IF(H13="OK",C13/D13,"") | F13: =IF(ISNUMBER(E13),RANK(E13,$E$2:$E$201,0),"") | G13: =IF(ISNUMBER(E13),IF(E13>=Summary!$B$3,"Pass","Below threshold"),"") | H13: =IF(A13="","",IF(AND(ISNUMBER(C13),ISNUMBER(D13),D13>0,C13<=D13),"OK","Check score / maximum"))
E14: =IF(H14="OK",C14/D14,"") | F14: =IF(ISNUMBER(E14),RANK(E14,$E$2:$E$201,0),"") | G14: =IF(ISNUMBER(E14),IF(E14>=Summary!$B$3,"Pass","Below threshold"),"") | H14: =IF(A14="","",IF(AND(ISNUMBER(C14),ISNUMBER(D14),D14>0,C14<=D14),"OK","Check score / maximum"))
E15: =IF(H15="OK",C15/D15,"") | F15: =IF(ISNUMBER(E15),RANK(E15,$E$2:$E$201,0),"") | G15: =IF(ISNUMBER(E15),IF(E15>=Summary!$B$3,"Pass","Below threshold"),"") | H15: =IF(A15="","",IF(AND(ISNUMBER(C15),ISNUMBER(D15),D15>0,C15<=D15),"OK","Check score / maximum"))
E16: =IF(H16="OK",C16/D16,"") | F16: =IF(ISNUMBER(E16),RANK(E16,$E$2:$E$201,0),"") | G16: =IF(ISNUMBER(E16),IF(E16>=Summary!$B$3,"Pass","Below threshold"),"") | H16: =IF(A16="","",IF(AND(ISNUMBER(C16),ISNUMBER(D16),D16>0,C16<=D16),"OK","Check score / maximum"))
E17: =IF(H17="OK",C17/D17,"") | F17: =IF(ISNUMBER(E17),RANK(E17,$E$2:$E$201,0),"") | G17: =IF(ISNUMBER(E17),IF(E17>=Summary!$B$3,"Pass","Below threshold"),"") | H17: =IF(A17="","",IF(AND(ISNUMBER(C17),ISNUMBER(D17),D17>0,C17<=D17),"OK","Check score / maximum"))
E18: =IF(H18="OK",C18/D18,"") | F18: =IF(ISNUMBER(E18),RANK(E18,$E$2:$E$201,0),"") | G18: =IF(ISNUMBER(E18),IF(E18>=Summary!$B$3,"Pass","Below threshold"),"") | H18: =IF(A18="","",IF(AND(ISNUMBER(C18),ISNUMBER(D18),D18>0,C18<=D18),"OK","Check score / maximum"))
... E201: =IF(H201="OK",C201/D201,"") | F201: =IF(ISNUMBER(E201),RANK(E201,$E$2:$E$201,0),"") | G201: =IF(ISNUMBER(E201),IF(E201>=Summary!$B$3,"Pass","Below threshold"),"") | H201: =IF(A201="","",IF(AND(ISNUMBER(C201),ISNUMBER(D201),D201>0,C201<=D201),"OK","Check score / maximum"))
